BEGIN:VCALENDAR
VERSION:2.0
PRODID:-//The Forest &amp; Stream Club - ECPv6.15.20//NONSGML v1.0//EN
CALSCALE:GREGORIAN
METHOD:PUBLISH
X-ORIGINAL-URL:https://forestandstream.ca
X-WR-CALDESC:Events for The Forest &amp; Stream Club
REFRESH-INTERVAL;VALUE=DURATION:PT1H
X-Robots-Tag:noindex
X-PUBLISHED-TTL:PT1H
BEGIN:VTIMEZONE
TZID:America/Toronto
BEGIN:DAYLIGHT
TZOFFSETFROM:-0500
TZOFFSETTO:-0400
TZNAME:EDT
DTSTART:20220313T070000
END:DAYLIGHT
BEGIN:STANDARD
TZOFFSETFROM:-0400
TZOFFSETTO:-0500
TZNAME:EST
DTSTART:20221106T060000
END:STANDARD
BEGIN:DAYLIGHT
TZOFFSETFROM:-0500
TZOFFSETTO:-0400
TZNAME:EDT
DTSTART:20230312T070000
END:DAYLIGHT
BEGIN:STANDARD
TZOFFSETFROM:-0400
TZOFFSETTO:-0500
TZNAME:EST
DTSTART:20231105T060000
END:STANDARD
BEGIN:DAYLIGHT
TZOFFSETFROM:-0500
TZOFFSETTO:-0400
TZNAME:EDT
DTSTART:20240310T070000
END:DAYLIGHT
BEGIN:STANDARD
TZOFFSETFROM:-0400
TZOFFSETTO:-0500
TZNAME:EST
DTSTART:20241103T060000
END:STANDARD
END:VTIMEZONE
BEGIN:VEVENT
DTSTART;VALUE=DATE:20231001
DTEND;VALUE=DATE:20231002
DTSTAMP:20260421T095727
CREATED:20230907T191501Z
LAST-MODIFIED:20240321T190536Z
UID:10000028-1696118400-1696204799@forestandstream.ca
SUMMARY:Fermé / Closed
DESCRIPTION:
URL:https://forestandstream.ca/event/ferme-closed/2023-10-01/
END:VEVENT
BEGIN:VEVENT
DTSTART;VALUE=DATE:20231002
DTEND;VALUE=DATE:20231003
DTSTAMP:20260421T095727
CREATED:20230907T191825Z
LAST-MODIFIED:20230907T191825Z
UID:10000553-1696204800-1696291199@forestandstream.ca
SUMMARY:Fermé / Closed
DESCRIPTION:
URL:https://forestandstream.ca/event/ferme-closed-2/2023-10-02/
END:VEVENT
BEGIN:VEVENT
DTSTART;VALUE=DATE:20231007
DTEND;VALUE=DATE:20231008
DTSTAMP:20260421T095727
CREATED:20230913T181059Z
LAST-MODIFIED:20230913T181149Z
UID:10001096-1696636800-1696723199@forestandstream.ca
SUMMARY:Mariage / Wedding
DESCRIPTION:
URL:https://forestandstream.ca/event/wedding/
END:VEVENT
BEGIN:VEVENT
DTSTART;VALUE=DATE:20231008
DTEND;VALUE=DATE:20231009
DTSTAMP:20260421T095727
CREATED:20230907T191501Z
LAST-MODIFIED:20240321T190536Z
UID:10000029-1696723200-1696809599@forestandstream.ca
SUMMARY:Fermé / Closed
DESCRIPTION:
URL:https://forestandstream.ca/event/ferme-closed/2023-10-08/
END:VEVENT
BEGIN:VEVENT
DTSTART;VALUE=DATE:20231009
DTEND;VALUE=DATE:20231010
DTSTAMP:20260421T095727
CREATED:20230907T191825Z
LAST-MODIFIED:20230907T191825Z
UID:10000554-1696809600-1696895999@forestandstream.ca
SUMMARY:Fermé / Closed
DESCRIPTION:
URL:https://forestandstream.ca/event/ferme-closed-2/2023-10-09/
END:VEVENT
BEGIN:VEVENT
DTSTART;TZID=America/Toronto:20231011T180000
DTEND;TZID=America/Toronto:20231011T230000
DTSTAMP:20260421T095727
CREATED:20230913T181453Z
LAST-MODIFIED:20230922T133039Z
UID:10001100-1697047200-1697065200@forestandstream.ca
SUMMARY:Roast Beef Dinner
DESCRIPTION:
URL:https://forestandstream.ca/event/soiree-cote-de-boeuf-jour-du-souvenir/
END:VEVENT
BEGIN:VEVENT
DTSTART;VALUE=DATE:20231015
DTEND;VALUE=DATE:20231016
DTSTAMP:20260421T095727
CREATED:20230907T191501Z
LAST-MODIFIED:20240321T190536Z
UID:10000030-1697328000-1697414399@forestandstream.ca
SUMMARY:Fermé / Closed
DESCRIPTION:
URL:https://forestandstream.ca/event/ferme-closed/2023-10-15/
END:VEVENT
BEGIN:VEVENT
DTSTART;VALUE=DATE:20231016
DTEND;VALUE=DATE:20231017
DTSTAMP:20260421T095727
CREATED:20230907T191825Z
LAST-MODIFIED:20230907T191825Z
UID:10000555-1697414400-1697500799@forestandstream.ca
SUMMARY:Fermé / Closed
DESCRIPTION:
URL:https://forestandstream.ca/event/ferme-closed-2/2023-10-16/
END:VEVENT
BEGIN:VEVENT
DTSTART;TZID=America/Toronto:20231020T170000
DTEND;TZID=America/Toronto:20231020T230000
DTSTAMP:20260421T095728
CREATED:20230913T180905Z
LAST-MODIFIED:20230913T180905Z
UID:10001095-1697821200-1697842800@forestandstream.ca
SUMMARY:Corporate Event  *Dining room closed at dinner time*
DESCRIPTION:
URL:https://forestandstream.ca/event/corporate-event-dining-room-closed-at-dinner-time-2/
END:VEVENT
BEGIN:VEVENT
DTSTART;VALUE=DATE:20231022
DTEND;VALUE=DATE:20231023
DTSTAMP:20260421T095728
CREATED:20230907T191501Z
LAST-MODIFIED:20240321T190536Z
UID:10000031-1697932800-1698019199@forestandstream.ca
SUMMARY:Fermé / Closed
DESCRIPTION:
URL:https://forestandstream.ca/event/ferme-closed/2023-10-22/
END:VEVENT
BEGIN:VEVENT
DTSTART;VALUE=DATE:20231023
DTEND;VALUE=DATE:20231024
DTSTAMP:20260421T095728
CREATED:20230907T191825Z
LAST-MODIFIED:20230907T191825Z
UID:10000556-1698019200-1698105599@forestandstream.ca
SUMMARY:Fermé / Closed
DESCRIPTION:
URL:https://forestandstream.ca/event/ferme-closed-2/2023-10-23/
END:VEVENT
BEGIN:VEVENT
DTSTART;TZID=America/Toronto:20231026T180000
DTEND;TZID=America/Toronto:20231026T230000
DTSTAMP:20260421T095728
CREATED:20230913T181901Z
LAST-MODIFIED:20230913T181901Z
UID:10001102-1698343200-1698361200@forestandstream.ca
SUMMARY:Oktoberfest Dinner
DESCRIPTION:
URL:https://forestandstream.ca/event/oktoberfest-dinner/
END:VEVENT
BEGIN:VEVENT
DTSTART;TZID=America/Toronto:20231027T180000
DTEND;TZID=America/Toronto:20231027T220000
DTSTAMP:20260421T095728
CREATED:20231011T164007Z
LAST-MODIFIED:20231011T164007Z
UID:10001124-1698429600-1698444000@forestandstream.ca
SUMMARY:Winemaker's Dinner
DESCRIPTION:
URL:https://forestandstream.ca/event/winemakers-dinner/
END:VEVENT
BEGIN:VEVENT
DTSTART;VALUE=DATE:20231029
DTEND;VALUE=DATE:20231030
DTSTAMP:20260421T095728
CREATED:20230907T191501Z
LAST-MODIFIED:20240321T190536Z
UID:10000032-1698537600-1698623999@forestandstream.ca
SUMMARY:Fermé / Closed
DESCRIPTION:
URL:https://forestandstream.ca/event/ferme-closed/2023-10-29/
END:VEVENT
BEGIN:VEVENT
DTSTART;VALUE=DATE:20231030
DTEND;VALUE=DATE:20231031
DTSTAMP:20260421T095728
CREATED:20230907T191825Z
LAST-MODIFIED:20230907T191825Z
UID:10000557-1698624000-1698710399@forestandstream.ca
SUMMARY:Fermé / Closed
DESCRIPTION:
URL:https://forestandstream.ca/event/ferme-closed-2/2023-10-30/
END:VEVENT
END:VCALENDAR