BEGIN:VCALENDAR
VERSION:2.0
PRODID:-//The Forest &amp; Stream Club - ECPv6.15.20//NONSGML v1.0//EN
CALSCALE:GREGORIAN
METHOD:PUBLISH
X-ORIGINAL-URL:https://forestandstream.ca
X-WR-CALDESC:Events for The Forest &amp; Stream Club
REFRESH-INTERVAL;VALUE=DURATION:PT1H
X-Robots-Tag:noindex
X-PUBLISHED-TTL:PT1H
BEGIN:VTIMEZONE
TZID:America/Toronto
BEGIN:DAYLIGHT
TZOFFSETFROM:-0500
TZOFFSETTO:-0400
TZNAME:EDT
DTSTART:20220313T070000
END:DAYLIGHT
BEGIN:STANDARD
TZOFFSETFROM:-0400
TZOFFSETTO:-0500
TZNAME:EST
DTSTART:20221106T060000
END:STANDARD
BEGIN:DAYLIGHT
TZOFFSETFROM:-0500
TZOFFSETTO:-0400
TZNAME:EDT
DTSTART:20230312T070000
END:DAYLIGHT
BEGIN:STANDARD
TZOFFSETFROM:-0400
TZOFFSETTO:-0500
TZNAME:EST
DTSTART:20231105T060000
END:STANDARD
BEGIN:DAYLIGHT
TZOFFSETFROM:-0500
TZOFFSETTO:-0400
TZNAME:EDT
DTSTART:20240310T070000
END:DAYLIGHT
BEGIN:STANDARD
TZOFFSETFROM:-0400
TZOFFSETTO:-0500
TZNAME:EST
DTSTART:20241103T060000
END:STANDARD
END:VTIMEZONE
BEGIN:VEVENT
DTSTART;TZID=America/Toronto:20231102T180000
DTEND;TZID=America/Toronto:20231102T213000
DTSTAMP:20260420T112821
CREATED:20230928T213808Z
LAST-MODIFIED:20231004T214205Z
UID:10001121-1698948000-1698960600@forestandstream.ca
SUMMARY:Oyster Night
DESCRIPTION:
URL:https://forestandstream.ca/event/oyster-night/
END:VEVENT
BEGIN:VEVENT
DTSTART;VALUE=DATE:20231105
DTEND;VALUE=DATE:20231106
DTSTAMP:20260420T112821
CREATED:20230907T191501Z
LAST-MODIFIED:20240321T190536Z
UID:10000033-1699142400-1699225199@forestandstream.ca
SUMMARY:Fermé / Closed
DESCRIPTION:
URL:https://forestandstream.ca/event/ferme-closed/2023-11-05/
END:VEVENT
BEGIN:VEVENT
DTSTART;VALUE=DATE:20231106
DTEND;VALUE=DATE:20231107
DTSTAMP:20260420T112821
CREATED:20230907T191825Z
LAST-MODIFIED:20230907T191825Z
UID:10000558-1699228800-1699315199@forestandstream.ca
SUMMARY:Fermé / Closed
DESCRIPTION:
URL:https://forestandstream.ca/event/ferme-closed-2/2023-11-06/
END:VEVENT
BEGIN:VEVENT
DTSTART;TZID=America/Toronto:20231109T170000
DTEND;TZID=America/Toronto:20231109T233000
DTSTAMP:20260420T112821
CREATED:20231109T170332Z
LAST-MODIFIED:20231109T170332Z
UID:10001126-1699549200-1699572600@forestandstream.ca
SUMMARY:Closed at dinner
DESCRIPTION:
URL:https://forestandstream.ca/event/closed-at-dinner/
END:VEVENT
BEGIN:VEVENT
DTSTART;TZID=America/Toronto:20231111T180000
DTEND;TZID=America/Toronto:20231111T220000
DTSTAMP:20260420T112821
CREATED:20230922T181747Z
LAST-MODIFIED:20230922T181948Z
UID:10001105-1699725600-1699740000@forestandstream.ca
SUMMARY:Roast Beef Dinner - Remembrance Day
DESCRIPTION:
URL:https://forestandstream.ca/event/roast-beef-dinner-remembrance-day/
END:VEVENT
BEGIN:VEVENT
DTSTART;VALUE=DATE:20231112
DTEND;VALUE=DATE:20231113
DTSTAMP:20260420T112821
CREATED:20230907T191501Z
LAST-MODIFIED:20240321T190536Z
UID:10000034-1699747200-1699833599@forestandstream.ca
SUMMARY:Fermé / Closed
DESCRIPTION:
URL:https://forestandstream.ca/event/ferme-closed/2023-11-12/
END:VEVENT
BEGIN:VEVENT
DTSTART;VALUE=DATE:20231113
DTEND;VALUE=DATE:20231114
DTSTAMP:20260420T112821
CREATED:20230907T191825Z
LAST-MODIFIED:20230907T191825Z
UID:10000559-1699833600-1699919999@forestandstream.ca
SUMMARY:Fermé / Closed
DESCRIPTION:
URL:https://forestandstream.ca/event/ferme-closed-2/2023-11-13/
END:VEVENT
BEGIN:VEVENT
DTSTART;VALUE=DATE:20231119
DTEND;VALUE=DATE:20231120
DTSTAMP:20260420T112821
CREATED:20230907T191501Z
LAST-MODIFIED:20240321T190536Z
UID:10000035-1700352000-1700438399@forestandstream.ca
SUMMARY:Fermé / Closed
DESCRIPTION:
URL:https://forestandstream.ca/event/ferme-closed/2023-11-19/
END:VEVENT
BEGIN:VEVENT
DTSTART;VALUE=DATE:20231120
DTEND;VALUE=DATE:20231121
DTSTAMP:20260420T112821
CREATED:20230907T191825Z
LAST-MODIFIED:20230907T191825Z
UID:10000560-1700438400-1700524799@forestandstream.ca
SUMMARY:Fermé / Closed
DESCRIPTION:
URL:https://forestandstream.ca/event/ferme-closed-2/2023-11-20/
END:VEVENT
BEGIN:VEVENT
DTSTART;TZID=America/Toronto:20231125T110000
DTEND;TZID=America/Toronto:20231125T150000
DTSTAMP:20260420T112821
CREATED:20230922T182539Z
LAST-MODIFIED:20230922T182539Z
UID:10001107-1700910000-1700924400@forestandstream.ca
SUMMARY:Crepe with Santa
DESCRIPTION:
URL:https://forestandstream.ca/event/crepe-with-santa/
END:VEVENT
BEGIN:VEVENT
DTSTART;VALUE=DATE:20231126
DTEND;VALUE=DATE:20231127
DTSTAMP:20260420T112821
CREATED:20230907T191501Z
LAST-MODIFIED:20240321T190536Z
UID:10000036-1700956800-1701043199@forestandstream.ca
SUMMARY:Fermé / Closed
DESCRIPTION:
URL:https://forestandstream.ca/event/ferme-closed/2023-11-26/
END:VEVENT
BEGIN:VEVENT
DTSTART;VALUE=DATE:20231127
DTEND;VALUE=DATE:20231128
DTSTAMP:20260420T112821
CREATED:20230907T191825Z
LAST-MODIFIED:20230907T191825Z
UID:10000561-1701043200-1701129599@forestandstream.ca
SUMMARY:Fermé / Closed
DESCRIPTION:
URL:https://forestandstream.ca/event/ferme-closed-2/2023-11-27/
END:VEVENT
END:VCALENDAR