BEGIN:VCALENDAR
VERSION:2.0
PRODID:-//The Forest &amp; Stream Club - ECPv6.15.20//NONSGML v1.0//EN
CALSCALE:GREGORIAN
METHOD:PUBLISH
X-WR-CALNAME:The Forest &amp; Stream Club
X-ORIGINAL-URL:https://forestandstream.ca
X-WR-CALDESC:Events for The Forest &amp; Stream Club
REFRESH-INTERVAL;VALUE=DURATION:PT1H
X-Robots-Tag:noindex
X-PUBLISHED-TTL:PT1H
BEGIN:VTIMEZONE
TZID:America/Toronto
BEGIN:DAYLIGHT
TZOFFSETFROM:-0500
TZOFFSETTO:-0400
TZNAME:EDT
DTSTART:20230312T070000
END:DAYLIGHT
BEGIN:STANDARD
TZOFFSETFROM:-0400
TZOFFSETTO:-0500
TZNAME:EST
DTSTART:20231105T060000
END:STANDARD
BEGIN:DAYLIGHT
TZOFFSETFROM:-0500
TZOFFSETTO:-0400
TZNAME:EDT
DTSTART:20240310T070000
END:DAYLIGHT
BEGIN:STANDARD
TZOFFSETFROM:-0400
TZOFFSETTO:-0500
TZNAME:EST
DTSTART:20241103T060000
END:STANDARD
BEGIN:DAYLIGHT
TZOFFSETFROM:-0500
TZOFFSETTO:-0400
TZNAME:EDT
DTSTART:20250309T070000
END:DAYLIGHT
BEGIN:STANDARD
TZOFFSETFROM:-0400
TZOFFSETTO:-0500
TZNAME:EST
DTSTART:20251102T060000
END:STANDARD
END:VTIMEZONE
BEGIN:VEVENT
DTSTART;VALUE=DATE:20240804
DTEND;VALUE=DATE:20240805
DTSTAMP:20260419T180211
CREATED:20230907T191501Z
LAST-MODIFIED:20240321T190536Z
UID:10000072-1722729600-1722815999@forestandstream.ca
SUMMARY:Fermé / Closed
DESCRIPTION:
URL:https://forestandstream.ca/event/ferme-closed/2024-08-04/
END:VEVENT
BEGIN:VEVENT
DTSTART;VALUE=DATE:20240805
DTEND;VALUE=DATE:20240806
DTSTAMP:20260419T180211
CREATED:20230907T191825Z
LAST-MODIFIED:20230907T191825Z
UID:10000597-1722816000-1722902399@forestandstream.ca
SUMMARY:Fermé / Closed
DESCRIPTION:
URL:https://forestandstream.ca/event/ferme-closed-2/2024-08-05/
END:VEVENT
BEGIN:VEVENT
DTSTART;VALUE=DATE:20240810
DTEND;VALUE=DATE:20240811
DTSTAMP:20260419T180211
CREATED:20240229T203225Z
LAST-MODIFIED:20240229T203225Z
UID:10001214-1723248000-1723334399@forestandstream.ca
SUMMARY:Mariage / Wedding
DESCRIPTION:
URL:https://forestandstream.ca/event/mariage-wedding-13/
END:VEVENT
BEGIN:VEVENT
DTSTART;VALUE=DATE:20240811
DTEND;VALUE=DATE:20240812
DTSTAMP:20260419T180211
CREATED:20230907T191501Z
LAST-MODIFIED:20240321T190536Z
UID:10000073-1723334400-1723420799@forestandstream.ca
SUMMARY:Fermé / Closed
DESCRIPTION:
URL:https://forestandstream.ca/event/ferme-closed/2024-08-11/
END:VEVENT
BEGIN:VEVENT
DTSTART;VALUE=DATE:20240812
DTEND;VALUE=DATE:20240813
DTSTAMP:20260419T180211
CREATED:20230907T191825Z
LAST-MODIFIED:20230907T191825Z
UID:10000598-1723420800-1723507199@forestandstream.ca
SUMMARY:Fermé / Closed
DESCRIPTION:
URL:https://forestandstream.ca/event/ferme-closed-2/2024-08-12/
END:VEVENT
BEGIN:VEVENT
DTSTART;TZID=America/Toronto:20240817T180000
DTEND;TZID=America/Toronto:20240817T220000
DTSTAMP:20260419T180212
CREATED:20240326T200607Z
LAST-MODIFIED:20240328T204803Z
UID:10001326-1723917600-1723932000@forestandstream.ca
SUMMARY:Dinner in the Tropics
DESCRIPTION:
URL:https://forestandstream.ca/event/diner-en-blanc-2/
END:VEVENT
BEGIN:VEVENT
DTSTART;VALUE=DATE:20240818
DTEND;VALUE=DATE:20240819
DTSTAMP:20260419T180212
CREATED:20230907T191501Z
LAST-MODIFIED:20240321T190536Z
UID:10000074-1723939200-1724025599@forestandstream.ca
SUMMARY:Fermé / Closed
DESCRIPTION:
URL:https://forestandstream.ca/event/ferme-closed/2024-08-18/
END:VEVENT
BEGIN:VEVENT
DTSTART;VALUE=DATE:20240818
DTEND;VALUE=DATE:20240819
DTSTAMP:20260419T180212
CREATED:20240229T203342Z
LAST-MODIFIED:20240229T203342Z
UID:10001215-1723939200-1724025599@forestandstream.ca
SUMMARY:Mariage / Wedding
DESCRIPTION:
URL:https://forestandstream.ca/event/mariage-wedding-14/
END:VEVENT
BEGIN:VEVENT
DTSTART;VALUE=DATE:20240819
DTEND;VALUE=DATE:20240820
DTSTAMP:20260419T180212
CREATED:20230907T191825Z
LAST-MODIFIED:20230907T191825Z
UID:10000599-1724025600-1724111999@forestandstream.ca
SUMMARY:Fermé / Closed
DESCRIPTION:
URL:https://forestandstream.ca/event/ferme-closed-2/2024-08-19/
END:VEVENT
BEGIN:VEVENT
DTSTART;VALUE=DATE:20240820
DTEND;VALUE=DATE:20240821
DTSTAMP:20260419T180212
CREATED:20240815T210146Z
LAST-MODIFIED:20240815T210146Z
UID:10001344-1724112000-1724198399@forestandstream.ca
SUMMARY:Fermé / Closed
DESCRIPTION:
URL:https://forestandstream.ca/event/ferme-closed-4/
END:VEVENT
BEGIN:VEVENT
DTSTART;VALUE=DATE:20240824
DTEND;VALUE=DATE:20240825
DTSTAMP:20260419T180212
CREATED:20240229T203425Z
LAST-MODIFIED:20240229T203425Z
UID:10001216-1724457600-1724543999@forestandstream.ca
SUMMARY:Mariage / Wedding
DESCRIPTION:
URL:https://forestandstream.ca/event/mariage-wedding-15/
END:VEVENT
BEGIN:VEVENT
DTSTART;VALUE=DATE:20240825
DTEND;VALUE=DATE:20240826
DTSTAMP:20260419T180212
CREATED:20230907T191501Z
LAST-MODIFIED:20240321T190536Z
UID:10000075-1724544000-1724630399@forestandstream.ca
SUMMARY:Fermé / Closed
DESCRIPTION:
URL:https://forestandstream.ca/event/ferme-closed/2024-08-25/
END:VEVENT
BEGIN:VEVENT
DTSTART;VALUE=DATE:20240826
DTEND;VALUE=DATE:20240827
DTSTAMP:20260419T180212
CREATED:20230907T191825Z
LAST-MODIFIED:20230907T191825Z
UID:10000600-1724630400-1724716799@forestandstream.ca
SUMMARY:Fermé / Closed
DESCRIPTION:
URL:https://forestandstream.ca/event/ferme-closed-2/2024-08-26/
END:VEVENT
BEGIN:VEVENT
DTSTART;TZID=America/Toronto:20240828T133000
DTEND;TZID=America/Toronto:20240828T160000
DTSTAMP:20260419T180212
CREATED:20240326T200728Z
LAST-MODIFIED:20240326T200728Z
UID:10001327-1724851800-1724860800@forestandstream.ca
SUMMARY:Strawberry Afternoon Tea
DESCRIPTION:
URL:https://forestandstream.ca/event/strawberry-afternoon-tea/
END:VEVENT
BEGIN:VEVENT
DTSTART;VALUE=DATE:20240830
DTEND;VALUE=DATE:20240831
DTSTAMP:20260419T180212
CREATED:20240229T203453Z
LAST-MODIFIED:20240229T203453Z
UID:10001217-1724976000-1725062399@forestandstream.ca
SUMMARY:Mariage / Wedding
DESCRIPTION:
URL:https://forestandstream.ca/event/mariage-wedding-16/
END:VEVENT
END:VCALENDAR