BEGIN:VCALENDAR
VERSION:2.0
PRODID:-//The Forest &amp; Stream Club - ECPv6.15.20//NONSGML v1.0//EN
CALSCALE:GREGORIAN
METHOD:PUBLISH
X-ORIGINAL-URL:https://forestandstream.ca
X-WR-CALDESC:Events for The Forest &amp; Stream Club
REFRESH-INTERVAL;VALUE=DURATION:PT1H
X-Robots-Tag:noindex
X-PUBLISHED-TTL:PT1H
BEGIN:VTIMEZONE
TZID:America/Toronto
BEGIN:DAYLIGHT
TZOFFSETFROM:-0500
TZOFFSETTO:-0400
TZNAME:EDT
DTSTART:20240310T070000
END:DAYLIGHT
BEGIN:STANDARD
TZOFFSETFROM:-0400
TZOFFSETTO:-0500
TZNAME:EST
DTSTART:20241103T060000
END:STANDARD
BEGIN:DAYLIGHT
TZOFFSETFROM:-0500
TZOFFSETTO:-0400
TZNAME:EDT
DTSTART:20250309T070000
END:DAYLIGHT
BEGIN:STANDARD
TZOFFSETFROM:-0400
TZOFFSETTO:-0500
TZNAME:EST
DTSTART:20251102T060000
END:STANDARD
BEGIN:DAYLIGHT
TZOFFSETFROM:-0500
TZOFFSETTO:-0400
TZNAME:EDT
DTSTART:20260308T070000
END:DAYLIGHT
BEGIN:STANDARD
TZOFFSETFROM:-0400
TZOFFSETTO:-0500
TZNAME:EST
DTSTART:20261101T060000
END:STANDARD
END:VTIMEZONE
BEGIN:VEVENT
DTSTART;VALUE=DATE:20250503
DTEND;VALUE=DATE:20250504
DTSTAMP:20260421T152514
CREATED:20250203T203010Z
LAST-MODIFIED:20250203T203010Z
UID:10002970-1746230400-1746316799@forestandstream.ca
SUMMARY:Mariage / Wedding
DESCRIPTION:
URL:https://forestandstream.ca/event/mariage-wedding-21/
END:VEVENT
BEGIN:VEVENT
DTSTART;VALUE=DATE:20250504
DTEND;VALUE=DATE:20250505
DTSTAMP:20260421T152514
CREATED:20250207T155634Z
LAST-MODIFIED:20250207T155635Z
UID:10000111-1746316800-1746403199@forestandstream.ca
SUMMARY:Fermé / Closed
DESCRIPTION:
URL:https://forestandstream.ca/event/ferme-closed-5/2025-05-04/
END:VEVENT
BEGIN:VEVENT
DTSTART;VALUE=DATE:20250504
DTEND;VALUE=DATE:20250505
DTSTAMP:20260421T152514
CREATED:20250428T171624Z
LAST-MODIFIED:20250428T171639Z
UID:10003150-1746316800-1746403199@forestandstream.ca
SUMMARY:Private Event
DESCRIPTION:
URL:https://forestandstream.ca/event/private-event/
END:VEVENT
BEGIN:VEVENT
DTSTART;VALUE=DATE:20250505
DTEND;VALUE=DATE:20250506
DTSTAMP:20260421T152514
CREATED:20230907T191825Z
LAST-MODIFIED:20230907T191825Z
UID:10000636-1746403200-1746489599@forestandstream.ca
SUMMARY:Fermé / Closed
DESCRIPTION:
URL:https://forestandstream.ca/event/ferme-closed-2/2025-05-05/
END:VEVENT
BEGIN:VEVENT
DTSTART;TZID=America/Toronto:20250507T170000
DTEND;TZID=America/Toronto:20250507T223000
DTSTAMP:20260421T152514
CREATED:20250428T172038Z
LAST-MODIFIED:20250428T172038Z
UID:10003151-1746637200-1746657000@forestandstream.ca
SUMMARY:Private Event
DESCRIPTION:
URL:https://forestandstream.ca/event/private-event-2/
END:VEVENT
BEGIN:VEVENT
DTSTART;TZID=America/Toronto:20250509T170000
DTEND;TZID=America/Toronto:20250509T223000
DTSTAMP:20260421T152514
CREATED:20250428T172114Z
LAST-MODIFIED:20250428T172114Z
UID:10003152-1746810000-1746829800@forestandstream.ca
SUMMARY:Private Event
DESCRIPTION:
URL:https://forestandstream.ca/event/private-event-3/
END:VEVENT
BEGIN:VEVENT
DTSTART;TZID=America/Toronto:20250511T110000
DTEND;TZID=America/Toronto:20250511T143000
DTSTAMP:20260421T152514
CREATED:20250203T203200Z
LAST-MODIFIED:20250203T203200Z
UID:10002971-1746961200-1746973800@forestandstream.ca
SUMMARY:Mother's Day Brunch
DESCRIPTION:
URL:https://forestandstream.ca/event/mothers-day-brunch-2/
END:VEVENT
BEGIN:VEVENT
DTSTART;VALUE=DATE:20250512
DTEND;VALUE=DATE:20250513
DTSTAMP:20260421T152514
CREATED:20230907T191825Z
LAST-MODIFIED:20230907T191825Z
UID:10000637-1747008000-1747094399@forestandstream.ca
SUMMARY:Fermé / Closed
DESCRIPTION:
URL:https://forestandstream.ca/event/ferme-closed-2/2025-05-12/
END:VEVENT
BEGIN:VEVENT
DTSTART;VALUE=DATE:20250513
DTEND;VALUE=DATE:20250514
DTSTAMP:20260421T152514
CREATED:20250513T191121Z
LAST-MODIFIED:20250513T191121Z
UID:10003191-1747094400-1747180799@forestandstream.ca
SUMMARY:Mariage / Wedding
DESCRIPTION:
URL:https://forestandstream.ca/event/mariage-wedding-41/
END:VEVENT
BEGIN:VEVENT
DTSTART;TZID=America/Toronto:20250514T180000
DTEND;TZID=America/Toronto:20250514T223000
DTSTAMP:20260421T152514
CREATED:20250203T203300Z
LAST-MODIFIED:20250203T203300Z
UID:10002972-1747245600-1747261800@forestandstream.ca
SUMMARY:Roast Beef Dinner
DESCRIPTION:
URL:https://forestandstream.ca/event/roast-beef-dinner-4/
END:VEVENT
BEGIN:VEVENT
DTSTART;TZID=America/Toronto:20250515T180000
DTEND;TZID=America/Toronto:20250515T190000
DTSTAMP:20260421T152514
CREATED:20250203T203401Z
LAST-MODIFIED:20250228T144912Z
UID:10002973-1747332000-1747335600@forestandstream.ca
SUMMARY:Scotch Club
DESCRIPTION:
URL:https://forestandstream.ca/event/scotch-club-4/
END:VEVENT
BEGIN:VEVENT
DTSTART;TZID=America/Toronto:20250517T120000
DTEND;TZID=America/Toronto:20250517T180000
DTSTAMP:20260421T152514
CREATED:20250428T172534Z
LAST-MODIFIED:20250428T172534Z
UID:10003153-1747483200-1747504800@forestandstream.ca
SUMMARY:Private Event
DESCRIPTION:
URL:https://forestandstream.ca/event/private-event-4/
END:VEVENT
BEGIN:VEVENT
DTSTART;VALUE=DATE:20250518
DTEND;VALUE=DATE:20250519
DTSTAMP:20260421T152514
CREATED:20250207T155634Z
LAST-MODIFIED:20250207T155635Z
UID:10000113-1747526400-1747612799@forestandstream.ca
SUMMARY:Fermé / Closed
DESCRIPTION:
URL:https://forestandstream.ca/event/ferme-closed-5/2025-05-18/
END:VEVENT
BEGIN:VEVENT
DTSTART;VALUE=DATE:20250519
DTEND;VALUE=DATE:20250520
DTSTAMP:20260421T152514
CREATED:20230907T191825Z
LAST-MODIFIED:20230907T191825Z
UID:10000638-1747612800-1747699199@forestandstream.ca
SUMMARY:Fermé / Closed
DESCRIPTION:
URL:https://forestandstream.ca/event/ferme-closed-2/2025-05-19/
END:VEVENT
BEGIN:VEVENT
DTSTART;TZID=America/Toronto:20250524T170000
DTEND;TZID=America/Toronto:20250524T223000
DTSTAMP:20260421T152514
CREATED:20250221T174522Z
LAST-MODIFIED:20250428T173819Z
UID:10003103-1748106000-1748125800@forestandstream.ca
SUMMARY:Seafood Boil
DESCRIPTION:
URL:https://forestandstream.ca/event/seafood-boil/
END:VEVENT
BEGIN:VEVENT
DTSTART;TZID=America/Toronto:20250524T170000
DTEND;TZID=America/Toronto:20250524T223000
DTSTAMP:20260421T152514
CREATED:20250221T183050Z
LAST-MODIFIED:20250221T183050Z
UID:10003117-1748106000-1748125800@forestandstream.ca
SUMMARY:Family Dining
DESCRIPTION:
URL:https://forestandstream.ca/event/family-dining-3/
END:VEVENT
BEGIN:VEVENT
DTSTART;VALUE=DATE:20250525
DTEND;VALUE=DATE:20250526
DTSTAMP:20260421T152514
CREATED:20250207T155634Z
LAST-MODIFIED:20250207T155635Z
UID:10000114-1748131200-1748217599@forestandstream.ca
SUMMARY:Fermé / Closed
DESCRIPTION:
URL:https://forestandstream.ca/event/ferme-closed-5/2025-05-25/
END:VEVENT
BEGIN:VEVENT
DTSTART;VALUE=DATE:20250526
DTEND;VALUE=DATE:20250527
DTSTAMP:20260421T152514
CREATED:20230907T191825Z
LAST-MODIFIED:20230907T191825Z
UID:10000639-1748217600-1748303999@forestandstream.ca
SUMMARY:Fermé / Closed
DESCRIPTION:
URL:https://forestandstream.ca/event/ferme-closed-2/2025-05-26/
END:VEVENT
BEGIN:VEVENT
DTSTART;VALUE=DATE:20250527
DTEND;VALUE=DATE:20250528
DTSTAMP:20260421T152514
CREATED:20250502T164217Z
LAST-MODIFIED:20250502T164217Z
UID:10003188-1748304000-1748390399@forestandstream.ca
SUMMARY:Fermé / Closed
DESCRIPTION:
URL:https://forestandstream.ca/event/ferme-closed-6/
END:VEVENT
BEGIN:VEVENT
DTSTART;TZID=America/Toronto:20250531T170000
DTEND;TZID=America/Toronto:20250531T223000
DTSTAMP:20260421T152514
CREATED:20250428T172622Z
LAST-MODIFIED:20250428T172622Z
UID:10003154-1748710800-1748730600@forestandstream.ca
SUMMARY:Private Event
DESCRIPTION:
URL:https://forestandstream.ca/event/private-event-5/
END:VEVENT
END:VCALENDAR