BEGIN:VCALENDAR
VERSION:2.0
PRODID:-//The Forest &amp; Stream Club - ECPv6.15.20//NONSGML v1.0//EN
CALSCALE:GREGORIAN
METHOD:PUBLISH
X-WR-CALNAME:The Forest &amp; Stream Club
X-ORIGINAL-URL:https://forestandstream.ca
X-WR-CALDESC:Events for The Forest &amp; Stream Club
REFRESH-INTERVAL;VALUE=DURATION:PT1H
X-Robots-Tag:noindex
X-PUBLISHED-TTL:PT1H
BEGIN:VTIMEZONE
TZID:America/Toronto
BEGIN:DAYLIGHT
TZOFFSETFROM:-0500
TZOFFSETTO:-0400
TZNAME:EDT
DTSTART:20240310T070000
END:DAYLIGHT
BEGIN:STANDARD
TZOFFSETFROM:-0400
TZOFFSETTO:-0500
TZNAME:EST
DTSTART:20241103T060000
END:STANDARD
BEGIN:DAYLIGHT
TZOFFSETFROM:-0500
TZOFFSETTO:-0400
TZNAME:EDT
DTSTART:20250309T070000
END:DAYLIGHT
BEGIN:STANDARD
TZOFFSETFROM:-0400
TZOFFSETTO:-0500
TZNAME:EST
DTSTART:20251102T060000
END:STANDARD
BEGIN:DAYLIGHT
TZOFFSETFROM:-0500
TZOFFSETTO:-0400
TZNAME:EDT
DTSTART:20260308T070000
END:DAYLIGHT
BEGIN:STANDARD
TZOFFSETFROM:-0400
TZOFFSETTO:-0500
TZNAME:EST
DTSTART:20261101T060000
END:STANDARD
END:VTIMEZONE
BEGIN:VEVENT
DTSTART;VALUE=DATE:20250601
DTEND;VALUE=DATE:20250602
DTSTAMP:20260421T121441
CREATED:20250207T155634Z
LAST-MODIFIED:20250207T155635Z
UID:10000115-1748736000-1748822399@forestandstream.ca
SUMMARY:Fermé / Closed
DESCRIPTION:
URL:https://forestandstream.ca/event/ferme-closed-5/2025-06-01/
END:VEVENT
BEGIN:VEVENT
DTSTART;VALUE=DATE:20250601
DTEND;VALUE=DATE:20250605
DTSTAMP:20260421T121441
CREATED:20250428T172705Z
LAST-MODIFIED:20250428T172705Z
UID:10003155-1748736000-1749081599@forestandstream.ca
SUMMARY:Private Event
DESCRIPTION:
URL:https://forestandstream.ca/event/private-event-6/
END:VEVENT
BEGIN:VEVENT
DTSTART;VALUE=DATE:20250602
DTEND;VALUE=DATE:20250603
DTSTAMP:20260421T121441
CREATED:20230907T191825Z
LAST-MODIFIED:20230907T191825Z
UID:10000640-1748822400-1748908799@forestandstream.ca
SUMMARY:Fermé / Closed
DESCRIPTION:
URL:https://forestandstream.ca/event/ferme-closed-2/2025-06-02/
END:VEVENT
BEGIN:VEVENT
DTSTART;TZID=America/Toronto:20250607T120000
DTEND;TZID=America/Toronto:20250607T180000
DTSTAMP:20260421T121441
CREATED:20250428T172942Z
LAST-MODIFIED:20250428T172942Z
UID:10003156-1749297600-1749319200@forestandstream.ca
SUMMARY:Private Event
DESCRIPTION:
URL:https://forestandstream.ca/event/private-event-7/
END:VEVENT
BEGIN:VEVENT
DTSTART;VALUE=DATE:20250608
DTEND;VALUE=DATE:20250609
DTSTAMP:20260421T121441
CREATED:20250207T155634Z
LAST-MODIFIED:20250207T155635Z
UID:10000116-1749340800-1749427199@forestandstream.ca
SUMMARY:Fermé / Closed
DESCRIPTION:
URL:https://forestandstream.ca/event/ferme-closed-5/2025-06-08/
END:VEVENT
BEGIN:VEVENT
DTSTART;VALUE=DATE:20250609
DTEND;VALUE=DATE:20250610
DTSTAMP:20260421T121441
CREATED:20230907T191825Z
LAST-MODIFIED:20230907T191825Z
UID:10000641-1749427200-1749513599@forestandstream.ca
SUMMARY:Fermé / Closed
DESCRIPTION:
URL:https://forestandstream.ca/event/ferme-closed-2/2025-06-09/
END:VEVENT
BEGIN:VEVENT
DTSTART;TZID=America/Toronto:20250611T180000
DTEND;TZID=America/Toronto:20250611T223000
DTSTAMP:20260421T121441
CREATED:20250207T143724Z
LAST-MODIFIED:20250613T183136Z
UID:10003018-1749664800-1749681000@forestandstream.ca
SUMMARY:BBQ Chicken Night
DESCRIPTION:
URL:https://forestandstream.ca/event/roast-beef-dinner-6/
END:VEVENT
BEGIN:VEVENT
DTSTART;TZID=America/Toronto:20250612T170000
DTEND;TZID=America/Toronto:20250612T190000
DTSTAMP:20260421T121441
CREATED:20250221T174713Z
LAST-MODIFIED:20250221T174713Z
UID:10003104-1749747600-1749754800@forestandstream.ca
SUMMARY:Sunset 5@7
DESCRIPTION:
URL:https://forestandstream.ca/event/sunset-57/
END:VEVENT
BEGIN:VEVENT
DTSTART;TZID=America/Toronto:20250614T120000
DTEND;TZID=America/Toronto:20250614T180000
DTSTAMP:20260421T121441
CREATED:20250428T173100Z
LAST-MODIFIED:20250428T173100Z
UID:10003157-1749902400-1749924000@forestandstream.ca
SUMMARY:Private Event
DESCRIPTION:
URL:https://forestandstream.ca/event/private-event-8/
END:VEVENT
BEGIN:VEVENT
DTSTART;VALUE=DATE:20250615
DTEND;VALUE=DATE:20250616
DTSTAMP:20260421T121441
CREATED:20250207T155634Z
LAST-MODIFIED:20250207T155635Z
UID:10000117-1749945600-1750031999@forestandstream.ca
SUMMARY:Fermé / Closed
DESCRIPTION:
URL:https://forestandstream.ca/event/ferme-closed-5/2025-06-15/
END:VEVENT
BEGIN:VEVENT
DTSTART;VALUE=DATE:20250616
DTEND;VALUE=DATE:20250617
DTSTAMP:20260421T121441
CREATED:20230907T191825Z
LAST-MODIFIED:20230907T191825Z
UID:10000642-1750032000-1750118399@forestandstream.ca
SUMMARY:Fermé / Closed
DESCRIPTION:
URL:https://forestandstream.ca/event/ferme-closed-2/2025-06-16/
END:VEVENT
BEGIN:VEVENT
DTSTART;TZID=America/Toronto:20250618T130000
DTEND;TZID=America/Toronto:20250618T160000
DTSTAMP:20260421T121441
CREATED:20250428T174635Z
LAST-MODIFIED:20250428T174635Z
UID:10003167-1750251600-1750262400@forestandstream.ca
SUMMARY:Afternoon Tea
DESCRIPTION:
URL:https://forestandstream.ca/event/afternoon-tea/
END:VEVENT
BEGIN:VEVENT
DTSTART;TZID=America/Toronto:20250619T170000
DTEND;TZID=America/Toronto:20250619T223000
DTSTAMP:20260421T121441
CREATED:20250428T173201Z
LAST-MODIFIED:20250428T173201Z
UID:10003158-1750352400-1750372200@forestandstream.ca
SUMMARY:Private Event
DESCRIPTION:
URL:https://forestandstream.ca/event/private-event-9/
END:VEVENT
BEGIN:VEVENT
DTSTART;VALUE=DATE:20250620
DTEND;VALUE=DATE:20250621
DTSTAMP:20260421T121442
CREATED:20250203T210012Z
LAST-MODIFIED:20250203T210012Z
UID:10002998-1750377600-1750463999@forestandstream.ca
SUMMARY:Mariage / Wedding
DESCRIPTION:
URL:https://forestandstream.ca/event/mariage-wedding-24/
END:VEVENT
BEGIN:VEVENT
DTSTART;TZID=America/Toronto:20250621T170000
DTEND;TZID=America/Toronto:20250621T223000
DTSTAMP:20260421T121442
CREATED:20250428T173235Z
LAST-MODIFIED:20250428T173235Z
UID:10003159-1750525200-1750545000@forestandstream.ca
SUMMARY:Private Event
DESCRIPTION:
URL:https://forestandstream.ca/event/private-event-10/
END:VEVENT
BEGIN:VEVENT
DTSTART;VALUE=DATE:20250622
DTEND;VALUE=DATE:20250623
DTSTAMP:20260421T121442
CREATED:20250207T155634Z
LAST-MODIFIED:20250207T155635Z
UID:10000118-1750550400-1750636799@forestandstream.ca
SUMMARY:Fermé / Closed
DESCRIPTION:
URL:https://forestandstream.ca/event/ferme-closed-5/2025-06-22/
END:VEVENT
BEGIN:VEVENT
DTSTART;VALUE=DATE:20250622
DTEND;VALUE=DATE:20250623
DTSTAMP:20260421T121442
CREATED:20250428T173304Z
LAST-MODIFIED:20250428T173304Z
UID:10003160-1750550400-1750636799@forestandstream.ca
SUMMARY:Private Event
DESCRIPTION:
URL:https://forestandstream.ca/event/private-event-11/
END:VEVENT
BEGIN:VEVENT
DTSTART;VALUE=DATE:20250623
DTEND;VALUE=DATE:20250624
DTSTAMP:20260421T121442
CREATED:20230907T191825Z
LAST-MODIFIED:20230907T191825Z
UID:10000643-1750636800-1750723199@forestandstream.ca
SUMMARY:Fermé / Closed
DESCRIPTION:
URL:https://forestandstream.ca/event/ferme-closed-2/2025-06-23/
END:VEVENT
BEGIN:VEVENT
DTSTART;VALUE=DATE:20250624
DTEND;VALUE=DATE:20250625
DTSTAMP:20260421T121442
CREATED:20250613T182453Z
LAST-MODIFIED:20250613T182453Z
UID:10003200-1750723200-1750809599@forestandstream.ca
SUMMARY:Fermé/Closed
DESCRIPTION:
URL:https://forestandstream.ca/event/ferme-closed-7/
END:VEVENT
BEGIN:VEVENT
DTSTART;TZID=America/Toronto:20250626T180000
DTEND;TZID=America/Toronto:20250626T190000
DTSTAMP:20260421T121442
CREATED:20250207T143520Z
LAST-MODIFIED:20250207T143559Z
UID:10003017-1750960800-1750964400@forestandstream.ca
SUMMARY:Scotch Club
DESCRIPTION:
URL:https://forestandstream.ca/event/roast-beef-dinner-5/
END:VEVENT
BEGIN:VEVENT
DTSTART;TZID=America/Toronto:20250627T170000
DTEND;TZID=America/Toronto:20250627T223000
DTSTAMP:20260421T121442
CREATED:20250221T175005Z
LAST-MODIFIED:20250221T175005Z
UID:10003106-1751043600-1751063400@forestandstream.ca
SUMMARY:Lobster Fest
DESCRIPTION:
URL:https://forestandstream.ca/event/lobster-fest/
END:VEVENT
BEGIN:VEVENT
DTSTART;VALUE=DATE:20250628
DTEND;VALUE=DATE:20250629
DTSTAMP:20260421T121442
CREATED:20250221T183123Z
LAST-MODIFIED:20250305T141617Z
UID:10003118-1751068800-1751155199@forestandstream.ca
SUMMARY:Mariage / Wedding
DESCRIPTION:
URL:https://forestandstream.ca/event/family-dining-4/
END:VEVENT
BEGIN:VEVENT
DTSTART;VALUE=DATE:20250629
DTEND;VALUE=DATE:20250630
DTSTAMP:20260421T121442
CREATED:20250207T155634Z
LAST-MODIFIED:20250207T155635Z
UID:10000119-1751155200-1751241599@forestandstream.ca
SUMMARY:Fermé / Closed
DESCRIPTION:
URL:https://forestandstream.ca/event/ferme-closed-5/2025-06-29/
END:VEVENT
BEGIN:VEVENT
DTSTART;VALUE=DATE:20250630
DTEND;VALUE=DATE:20250701
DTSTAMP:20260421T121442
CREATED:20230907T191825Z
LAST-MODIFIED:20230907T191825Z
UID:10000644-1751241600-1751327999@forestandstream.ca
SUMMARY:Fermé / Closed
DESCRIPTION:
URL:https://forestandstream.ca/event/ferme-closed-2/2025-06-30/
END:VEVENT
BEGIN:VEVENT
DTSTART;VALUE=DATE:20250630
DTEND;VALUE=DATE:20250701
DTSTAMP:20260421T121442
CREATED:20250613T182617Z
LAST-MODIFIED:20250613T182617Z
UID:10003202-1751241600-1751327999@forestandstream.ca
SUMMARY:Film Production
DESCRIPTION:
URL:https://forestandstream.ca/event/film-production/
END:VEVENT
END:VCALENDAR