BEGIN:VCALENDAR
VERSION:2.0
PRODID:-//The Forest &amp; Stream Club - ECPv6.15.20//NONSGML v1.0//EN
CALSCALE:GREGORIAN
METHOD:PUBLISH
X-WR-CALNAME:The Forest &amp; Stream Club
X-ORIGINAL-URL:https://forestandstream.ca
X-WR-CALDESC:Events for The Forest &amp; Stream Club
REFRESH-INTERVAL;VALUE=DURATION:PT1H
X-Robots-Tag:noindex
X-PUBLISHED-TTL:PT1H
BEGIN:VTIMEZONE
TZID:America/Toronto
BEGIN:DAYLIGHT
TZOFFSETFROM:-0500
TZOFFSETTO:-0400
TZNAME:EDT
DTSTART:20240310T070000
END:DAYLIGHT
BEGIN:STANDARD
TZOFFSETFROM:-0400
TZOFFSETTO:-0500
TZNAME:EST
DTSTART:20241103T060000
END:STANDARD
BEGIN:DAYLIGHT
TZOFFSETFROM:-0500
TZOFFSETTO:-0400
TZNAME:EDT
DTSTART:20250309T070000
END:DAYLIGHT
BEGIN:STANDARD
TZOFFSETFROM:-0400
TZOFFSETTO:-0500
TZNAME:EST
DTSTART:20251102T060000
END:STANDARD
BEGIN:DAYLIGHT
TZOFFSETFROM:-0500
TZOFFSETTO:-0400
TZNAME:EDT
DTSTART:20260308T070000
END:DAYLIGHT
BEGIN:STANDARD
TZOFFSETFROM:-0400
TZOFFSETTO:-0500
TZNAME:EST
DTSTART:20261101T060000
END:STANDARD
END:VTIMEZONE
BEGIN:VEVENT
DTSTART;VALUE=DATE:20250701
DTEND;VALUE=DATE:20250702
DTSTAMP:20260421T121423
CREATED:20250613T182540Z
LAST-MODIFIED:20250613T182540Z
UID:10003201-1751328000-1751414399@forestandstream.ca
SUMMARY:Fermé/Closed
DESCRIPTION:
URL:https://forestandstream.ca/event/ferme-closed-8/
END:VEVENT
BEGIN:VEVENT
DTSTART;TZID=America/Toronto:20250705T170000
DTEND;TZID=America/Toronto:20250705T223000
DTSTAMP:20260421T121423
CREATED:20250428T173345Z
LAST-MODIFIED:20250428T173345Z
UID:10003161-1751734800-1751754600@forestandstream.ca
SUMMARY:Private Event
DESCRIPTION:
URL:https://forestandstream.ca/event/private-event-12/
END:VEVENT
BEGIN:VEVENT
DTSTART;VALUE=DATE:20250706
DTEND;VALUE=DATE:20250707
DTSTAMP:20260421T121423
CREATED:20250207T155634Z
LAST-MODIFIED:20250207T155635Z
UID:10000120-1751760000-1751846399@forestandstream.ca
SUMMARY:Fermé / Closed
DESCRIPTION:
URL:https://forestandstream.ca/event/ferme-closed-5/2025-07-06/
END:VEVENT
BEGIN:VEVENT
DTSTART;VALUE=DATE:20250706
DTEND;VALUE=DATE:20250707
DTSTAMP:20260421T121423
CREATED:20250613T182652Z
LAST-MODIFIED:20250613T182652Z
UID:10003203-1751760000-1751846399@forestandstream.ca
SUMMARY:Private Event
DESCRIPTION:
URL:https://forestandstream.ca/event/private-event-15/
END:VEVENT
BEGIN:VEVENT
DTSTART;VALUE=DATE:20250707
DTEND;VALUE=DATE:20250708
DTSTAMP:20260421T121423
CREATED:20230907T191825Z
LAST-MODIFIED:20230907T191825Z
UID:10000645-1751846400-1751932799@forestandstream.ca
SUMMARY:Fermé / Closed
DESCRIPTION:
URL:https://forestandstream.ca/event/ferme-closed-2/2025-07-07/
END:VEVENT
BEGIN:VEVENT
DTSTART;TZID=America/Toronto:20250709T180000
DTEND;TZID=America/Toronto:20250709T223000
DTSTAMP:20260421T121423
CREATED:20250207T143855Z
LAST-MODIFIED:20250613T183200Z
UID:10003019-1752084000-1752100200@forestandstream.ca
SUMMARY:BBQ Chicken Night
DESCRIPTION:
URL:https://forestandstream.ca/event/roast-beef-dinner-7/
END:VEVENT
BEGIN:VEVENT
DTSTART;TZID=America/Toronto:20250710T170000
DTEND;TZID=America/Toronto:20250710T223000
DTSTAMP:20260421T121423
CREATED:20250428T173421Z
LAST-MODIFIED:20250428T173421Z
UID:10003162-1752166800-1752186600@forestandstream.ca
SUMMARY:Private Event
DESCRIPTION:
URL:https://forestandstream.ca/event/private-event-13/
END:VEVENT
BEGIN:VEVENT
DTSTART;TZID=America/Toronto:20250711T170000
DTEND;TZID=America/Toronto:20250711T190000
DTSTAMP:20260421T121423
CREATED:20250221T175123Z
LAST-MODIFIED:20250428T173909Z
UID:10003107-1752253200-1752260400@forestandstream.ca
SUMMARY:Sunset 5@7
DESCRIPTION:
URL:https://forestandstream.ca/event/sunset-57-2/
END:VEVENT
BEGIN:VEVENT
DTSTART;VALUE=DATE:20250712
DTEND;VALUE=DATE:20250713
DTSTAMP:20260421T121423
CREATED:20250203T210045Z
LAST-MODIFIED:20250203T210045Z
UID:10002999-1752278400-1752364799@forestandstream.ca
SUMMARY:Mariage / Wedding
DESCRIPTION:
URL:https://forestandstream.ca/event/mariage-wedding-25/
END:VEVENT
BEGIN:VEVENT
DTSTART;VALUE=DATE:20250713
DTEND;VALUE=DATE:20250714
DTSTAMP:20260421T121423
CREATED:20250207T155634Z
LAST-MODIFIED:20250207T155635Z
UID:10000121-1752364800-1752451199@forestandstream.ca
SUMMARY:Fermé / Closed
DESCRIPTION:
URL:https://forestandstream.ca/event/ferme-closed-5/2025-07-13/
END:VEVENT
BEGIN:VEVENT
DTSTART;VALUE=DATE:20250713
DTEND;VALUE=DATE:20250714
DTSTAMP:20260421T121423
CREATED:20250613T182803Z
LAST-MODIFIED:20250613T182803Z
UID:10003204-1752364800-1752451199@forestandstream.ca
SUMMARY:Private Event
DESCRIPTION:
URL:https://forestandstream.ca/event/private-event-16/
END:VEVENT
BEGIN:VEVENT
DTSTART;VALUE=DATE:20250714
DTEND;VALUE=DATE:20250715
DTSTAMP:20260421T121423
CREATED:20230907T191825Z
LAST-MODIFIED:20230907T191825Z
UID:10000646-1752451200-1752537599@forestandstream.ca
SUMMARY:Fermé / Closed
DESCRIPTION:
URL:https://forestandstream.ca/event/ferme-closed-2/2025-07-14/
END:VEVENT
BEGIN:VEVENT
DTSTART;TZID=America/Toronto:20250717T180000
DTEND;TZID=America/Toronto:20250717T190000
DTSTAMP:20260421T121423
CREATED:20250207T143952Z
LAST-MODIFIED:20250207T143952Z
UID:10003020-1752775200-1752778800@forestandstream.ca
SUMMARY:Scotch Club
DESCRIPTION:
URL:https://forestandstream.ca/event/scotch-club-5/
END:VEVENT
BEGIN:VEVENT
DTSTART;VALUE=DATE:20250719
DTEND;VALUE=DATE:20250720
DTSTAMP:20260421T121423
CREATED:20250203T210111Z
LAST-MODIFIED:20250203T210111Z
UID:10003000-1752883200-1752969599@forestandstream.ca
SUMMARY:Mariage / Wedding
DESCRIPTION:
URL:https://forestandstream.ca/event/mariage-wedding-26/
END:VEVENT
BEGIN:VEVENT
DTSTART;VALUE=DATE:20250720
DTEND;VALUE=DATE:20250721
DTSTAMP:20260421T121423
CREATED:20250207T155634Z
LAST-MODIFIED:20250207T155635Z
UID:10000122-1752969600-1753055999@forestandstream.ca
SUMMARY:Fermé / Closed
DESCRIPTION:
URL:https://forestandstream.ca/event/ferme-closed-5/2025-07-20/
END:VEVENT
BEGIN:VEVENT
DTSTART;VALUE=DATE:20250721
DTEND;VALUE=DATE:20250722
DTSTAMP:20260421T121423
CREATED:20230907T191825Z
LAST-MODIFIED:20230907T191825Z
UID:10000647-1753056000-1753142399@forestandstream.ca
SUMMARY:Fermé / Closed
DESCRIPTION:
URL:https://forestandstream.ca/event/ferme-closed-2/2025-07-21/
END:VEVENT
BEGIN:VEVENT
DTSTART;VALUE=DATE:20250725
DTEND;VALUE=DATE:20250726
DTSTAMP:20260421T121423
CREATED:20250203T210143Z
LAST-MODIFIED:20250203T210143Z
UID:10003001-1753401600-1753487999@forestandstream.ca
SUMMARY:Mariage / Wedding
DESCRIPTION:
URL:https://forestandstream.ca/event/mariage-wedding-27/
END:VEVENT
BEGIN:VEVENT
DTSTART;VALUE=DATE:20250726
DTEND;VALUE=DATE:20250727
DTSTAMP:20260421T121423
CREATED:20250221T174911Z
LAST-MODIFIED:20250428T173739Z
UID:10003105-1753488000-1753574399@forestandstream.ca
SUMMARY:Family BBQ
DESCRIPTION:
URL:https://forestandstream.ca/event/family-bbq/
END:VEVENT
BEGIN:VEVENT
DTSTART;TZID=America/Toronto:20250726T170000
DTEND;TZID=America/Toronto:20250726T223000
DTSTAMP:20260421T121423
CREATED:20250328T193832Z
LAST-MODIFIED:20250328T193832Z
UID:10003149-1753549200-1753569000@forestandstream.ca
SUMMARY:Family Dining
DESCRIPTION:
URL:https://forestandstream.ca/event/family-dining-5/
END:VEVENT
BEGIN:VEVENT
DTSTART;VALUE=DATE:20250727
DTEND;VALUE=DATE:20250728
DTSTAMP:20260421T121423
CREATED:20250207T155634Z
LAST-MODIFIED:20250207T155635Z
UID:10000123-1753574400-1753660799@forestandstream.ca
SUMMARY:Fermé / Closed
DESCRIPTION:
URL:https://forestandstream.ca/event/ferme-closed-5/2025-07-27/
END:VEVENT
BEGIN:VEVENT
DTSTART;VALUE=DATE:20250728
DTEND;VALUE=DATE:20250729
DTSTAMP:20260421T121424
CREATED:20230907T191825Z
LAST-MODIFIED:20230907T191825Z
UID:10000648-1753660800-1753747199@forestandstream.ca
SUMMARY:Fermé / Closed
DESCRIPTION:
URL:https://forestandstream.ca/event/ferme-closed-2/2025-07-28/
END:VEVENT
END:VCALENDAR