BEGIN:VCALENDAR
VERSION:2.0
PRODID:-//The Forest &amp; Stream Club - ECPv6.15.20//NONSGML v1.0//EN
CALSCALE:GREGORIAN
METHOD:PUBLISH
X-WR-CALNAME:The Forest &amp; Stream Club
X-ORIGINAL-URL:https://forestandstream.ca
X-WR-CALDESC:Events for The Forest &amp; Stream Club
REFRESH-INTERVAL;VALUE=DURATION:PT1H
X-Robots-Tag:noindex
X-PUBLISHED-TTL:PT1H
BEGIN:VTIMEZONE
TZID:America/Toronto
BEGIN:DAYLIGHT
TZOFFSETFROM:-0500
TZOFFSETTO:-0400
TZNAME:EDT
DTSTART:20240310T070000
END:DAYLIGHT
BEGIN:STANDARD
TZOFFSETFROM:-0400
TZOFFSETTO:-0500
TZNAME:EST
DTSTART:20241103T060000
END:STANDARD
BEGIN:DAYLIGHT
TZOFFSETFROM:-0500
TZOFFSETTO:-0400
TZNAME:EDT
DTSTART:20250309T070000
END:DAYLIGHT
BEGIN:STANDARD
TZOFFSETFROM:-0400
TZOFFSETTO:-0500
TZNAME:EST
DTSTART:20251102T060000
END:STANDARD
BEGIN:DAYLIGHT
TZOFFSETFROM:-0500
TZOFFSETTO:-0400
TZNAME:EDT
DTSTART:20260308T070000
END:DAYLIGHT
BEGIN:STANDARD
TZOFFSETFROM:-0400
TZOFFSETTO:-0500
TZNAME:EST
DTSTART:20261101T060000
END:STANDARD
END:VTIMEZONE
BEGIN:VEVENT
DTSTART;VALUE=DATE:20250802
DTEND;VALUE=DATE:20250803
DTSTAMP:20260421T181749
CREATED:20250428T173549Z
LAST-MODIFIED:20250428T173549Z
UID:10003164-1754092800-1754179199@forestandstream.ca
SUMMARY:Mariage / Wedding
DESCRIPTION:
URL:https://forestandstream.ca/event/mariage-wedding-20/
END:VEVENT
BEGIN:VEVENT
DTSTART;VALUE=DATE:20250803
DTEND;VALUE=DATE:20250804
DTSTAMP:20260421T181749
CREATED:20250207T155634Z
LAST-MODIFIED:20250207T155635Z
UID:10000124-1754179200-1754265599@forestandstream.ca
SUMMARY:Fermé / Closed
DESCRIPTION:
URL:https://forestandstream.ca/event/ferme-closed-5/2025-08-03/
END:VEVENT
BEGIN:VEVENT
DTSTART;TZID=America/Toronto:20250803T170000
DTEND;TZID=America/Toronto:20250803T223000
DTSTAMP:20260421T181749
CREATED:20250428T173516Z
LAST-MODIFIED:20250428T173516Z
UID:10003163-1754240400-1754260200@forestandstream.ca
SUMMARY:Private Event
DESCRIPTION:
URL:https://forestandstream.ca/event/private-event-14/
END:VEVENT
BEGIN:VEVENT
DTSTART;VALUE=DATE:20250804
DTEND;VALUE=DATE:20250805
DTSTAMP:20260421T181749
CREATED:20230907T191825Z
LAST-MODIFIED:20230907T191825Z
UID:10000649-1754265600-1754351999@forestandstream.ca
SUMMARY:Fermé / Closed
DESCRIPTION:
URL:https://forestandstream.ca/event/ferme-closed-2/2025-08-04/
END:VEVENT
BEGIN:VEVENT
DTSTART;TZID=America/Toronto:20250808T170000
DTEND;TZID=America/Toronto:20250808T223000
DTSTAMP:20260421T181749
CREATED:20250221T175327Z
LAST-MODIFIED:20250221T175327Z
UID:10003109-1754672400-1754692200@forestandstream.ca
SUMMARY:Crazy Cocktails
DESCRIPTION:
URL:https://forestandstream.ca/event/crazy-cocktails/
END:VEVENT
BEGIN:VEVENT
DTSTART;VALUE=DATE:20250809
DTEND;VALUE=DATE:20250810
DTSTAMP:20260421T181749
CREATED:20250203T210222Z
LAST-MODIFIED:20250203T210222Z
UID:10003002-1754697600-1754783999@forestandstream.ca
SUMMARY:Mariage / Wedding
DESCRIPTION:
URL:https://forestandstream.ca/event/mariage-wedding-28/
END:VEVENT
BEGIN:VEVENT
DTSTART;VALUE=DATE:20250810
DTEND;VALUE=DATE:20250811
DTSTAMP:20260421T181749
CREATED:20250207T155634Z
LAST-MODIFIED:20250207T155635Z
UID:10000125-1754784000-1754870399@forestandstream.ca
SUMMARY:Fermé / Closed
DESCRIPTION:
URL:https://forestandstream.ca/event/ferme-closed-5/2025-08-10/
END:VEVENT
BEGIN:VEVENT
DTSTART;VALUE=DATE:20250811
DTEND;VALUE=DATE:20250812
DTSTAMP:20260421T181749
CREATED:20230907T191825Z
LAST-MODIFIED:20230907T191825Z
UID:10000650-1754870400-1754956799@forestandstream.ca
SUMMARY:Fermé / Closed
DESCRIPTION:
URL:https://forestandstream.ca/event/ferme-closed-2/2025-08-11/
END:VEVENT
BEGIN:VEVENT
DTSTART;TZID=America/Toronto:20250813T180000
DTEND;TZID=America/Toronto:20250813T223000
DTSTAMP:20260421T181749
CREATED:20250207T144836Z
LAST-MODIFIED:20250613T183248Z
UID:10003026-1755108000-1755124200@forestandstream.ca
SUMMARY:BBQ Chicken Night
DESCRIPTION:
URL:https://forestandstream.ca/event/roast-beef-dinner-8/
END:VEVENT
BEGIN:VEVENT
DTSTART;VALUE=DATE:20250815
DTEND;VALUE=DATE:20250816
DTSTAMP:20260421T181749
CREATED:20250203T210251Z
LAST-MODIFIED:20250203T210251Z
UID:10003003-1755216000-1755302399@forestandstream.ca
SUMMARY:Mariage / Wedding
DESCRIPTION:
URL:https://forestandstream.ca/event/mariage-wedding-29/
END:VEVENT
BEGIN:VEVENT
DTSTART;VALUE=DATE:20250816
DTEND;VALUE=DATE:20250817
DTSTAMP:20260421T181749
CREATED:20250203T210327Z
LAST-MODIFIED:20250203T210327Z
UID:10003004-1755302400-1755388799@forestandstream.ca
SUMMARY:Mariage / Wedding
DESCRIPTION:
URL:https://forestandstream.ca/event/mariage-wedding-30/
END:VEVENT
BEGIN:VEVENT
DTSTART;VALUE=DATE:20250817
DTEND;VALUE=DATE:20250818
DTSTAMP:20260421T181749
CREATED:20250207T155634Z
LAST-MODIFIED:20250207T155635Z
UID:10000126-1755388800-1755475199@forestandstream.ca
SUMMARY:Fermé / Closed
DESCRIPTION:
URL:https://forestandstream.ca/event/ferme-closed-5/2025-08-17/
END:VEVENT
BEGIN:VEVENT
DTSTART;VALUE=DATE:20250818
DTEND;VALUE=DATE:20250819
DTSTAMP:20260421T181749
CREATED:20230907T191825Z
LAST-MODIFIED:20230907T191825Z
UID:10000651-1755475200-1755561599@forestandstream.ca
SUMMARY:Fermé / Closed
DESCRIPTION:
URL:https://forestandstream.ca/event/ferme-closed-2/2025-08-18/
END:VEVENT
BEGIN:VEVENT
DTSTART;TZID=America/Toronto:20250821T180000
DTEND;TZID=America/Toronto:20250821T190000
DTSTAMP:20260421T181750
CREATED:20250207T144703Z
LAST-MODIFIED:20250207T144703Z
UID:10003025-1755799200-1755802800@forestandstream.ca
SUMMARY:Scotch Club
DESCRIPTION:
URL:https://forestandstream.ca/event/scotch-club-6/
END:VEVENT
BEGIN:VEVENT
DTSTART;VALUE=DATE:20250822
DTEND;VALUE=DATE:20250823
DTSTAMP:20260421T181750
CREATED:20250203T210359Z
LAST-MODIFIED:20250203T210359Z
UID:10003005-1755820800-1755907199@forestandstream.ca
SUMMARY:Mariage / Wedding
DESCRIPTION:
URL:https://forestandstream.ca/event/mariage-wedding-31/
END:VEVENT
BEGIN:VEVENT
DTSTART;VALUE=DATE:20250823
DTEND;VALUE=DATE:20250824
DTSTAMP:20260421T181750
CREATED:20250428T173644Z
LAST-MODIFIED:20250428T173644Z
UID:10003166-1755907200-1755993599@forestandstream.ca
SUMMARY:Mariage / Wedding
DESCRIPTION:
URL:https://forestandstream.ca/event/mariage-wedding-40/
END:VEVENT
BEGIN:VEVENT
DTSTART;VALUE=DATE:20250824
DTEND;VALUE=DATE:20250825
DTSTAMP:20260421T181750
CREATED:20250207T155634Z
LAST-MODIFIED:20250207T155635Z
UID:10000127-1755993600-1756079999@forestandstream.ca
SUMMARY:Fermé / Closed
DESCRIPTION:
URL:https://forestandstream.ca/event/ferme-closed-5/2025-08-24/
END:VEVENT
BEGIN:VEVENT
DTSTART;VALUE=DATE:20250825
DTEND;VALUE=DATE:20250826
DTSTAMP:20260421T181750
CREATED:20230907T191825Z
LAST-MODIFIED:20230907T191825Z
UID:10000652-1756080000-1756166399@forestandstream.ca
SUMMARY:Fermé / Closed
DESCRIPTION:
URL:https://forestandstream.ca/event/ferme-closed-2/2025-08-25/
END:VEVENT
BEGIN:VEVENT
DTSTART;TZID=America/Toronto:20250827T130000
DTEND;TZID=America/Toronto:20250827T160000
DTSTAMP:20260421T181750
CREATED:20250718T131222Z
LAST-MODIFIED:20250718T131222Z
UID:10003208-1756299600-1756310400@forestandstream.ca
SUMMARY:Afternoon Tea
DESCRIPTION:
URL:https://forestandstream.ca/event/afternoon-tea-2/
END:VEVENT
BEGIN:VEVENT
DTSTART;TZID=America/Toronto:20250828T170000
DTEND;TZID=America/Toronto:20250828T190000
DTSTAMP:20260421T181750
CREATED:20250221T175403Z
LAST-MODIFIED:20250221T175403Z
UID:10003110-1756400400-1756407600@forestandstream.ca
SUMMARY:Sunset 5@7
DESCRIPTION:
URL:https://forestandstream.ca/event/sunset-57-4/
END:VEVENT
BEGIN:VEVENT
DTSTART;VALUE=DATE:20250829
DTEND;VALUE=DATE:20250830
DTSTAMP:20260421T181750
CREATED:20250203T210434Z
LAST-MODIFIED:20250203T210434Z
UID:10003006-1756425600-1756511999@forestandstream.ca
SUMMARY:Mariage / Wedding
DESCRIPTION:
URL:https://forestandstream.ca/event/mariage-wedding-32/
END:VEVENT
BEGIN:VEVENT
DTSTART;VALUE=DATE:20250830
DTEND;VALUE=DATE:20250831
DTSTAMP:20260421T181750
CREATED:20250428T173618Z
LAST-MODIFIED:20250428T173618Z
UID:10003165-1756512000-1756598399@forestandstream.ca
SUMMARY:Mariage / Wedding
DESCRIPTION:
URL:https://forestandstream.ca/event/mariage-wedding-39/
END:VEVENT
BEGIN:VEVENT
DTSTART;VALUE=DATE:20250831
DTEND;VALUE=DATE:20250901
DTSTAMP:20260421T181750
CREATED:20250207T155634Z
LAST-MODIFIED:20250207T155635Z
UID:10000128-1756598400-1756684799@forestandstream.ca
SUMMARY:Fermé / Closed
DESCRIPTION:
URL:https://forestandstream.ca/event/ferme-closed-5/2025-08-31/
END:VEVENT
END:VCALENDAR